BEGIN:VCALENDAR
VERSION:2.0
PRODID:-//Hof - Mensch - Tier - ECPv6.15.20//NONSGML v1.0//EN
CALSCALE:GREGORIAN
METHOD:PUBLISH
X-WR-CALNAME:Hof - Mensch - Tier
X-ORIGINAL-URL:https://hof-mensch-tier.de
X-WR-CALDESC:Veranstaltungen für Hof - Mensch - Tier
REFRESH-INTERVAL;VALUE=DURATION:PT1H
X-Robots-Tag:noindex
X-PUBLISHED-TTL:PT1H
BEGIN:VTIMEZONE
TZID:Europe/Berlin
BEGIN:DAYLIGHT
TZOFFSETFROM:+0100
TZOFFSETTO:+0200
TZNAME:CEST
DTSTART:20250330T010000
END:DAYLIGHT
BEGIN:STANDARD
TZOFFSETFROM:+0200
TZOFFSETTO:+0100
TZNAME:CET
DTSTART:20251026T010000
END:STANDARD
BEGIN:DAYLIGHT
TZOFFSETFROM:+0100
TZOFFSETTO:+0200
TZNAME:CEST
DTSTART:20260329T010000
END:DAYLIGHT
BEGIN:STANDARD
TZOFFSETFROM:+0200
TZOFFSETTO:+0100
TZNAME:CET
DTSTART:20261025T010000
END:STANDARD
BEGIN:DAYLIGHT
TZOFFSETFROM:+0100
TZOFFSETTO:+0200
TZNAME:CEST
DTSTART:20270328T010000
END:DAYLIGHT
BEGIN:STANDARD
TZOFFSETFROM:+0200
TZOFFSETTO:+0100
TZNAME:CET
DTSTART:20271031T010000
END:STANDARD
END:VTIMEZONE
BEGIN:VEVENT
DTSTART;TZID=Europe/Berlin:20260424T153000
DTEND;TZID=Europe/Berlin:20260424T163000
DTSTAMP:20260424T150519
CREATED:20260209T201423Z
LAST-MODIFIED:20260209T201423Z
UID:6012-1777044600-1777048200@hof-mensch-tier.de
SUMMARY:Pferdezeit
DESCRIPTION:
URL:https://hof-mensch-tier.de/event/pferdezeit-5/
END:VEVENT
BEGIN:VEVENT
DTSTART;TZID=Europe/Berlin:20260425T100000
DTEND;TZID=Europe/Berlin:20260425T110000
DTSTAMP:20260424T150519
CREATED:20260209T201443Z
LAST-MODIFIED:20260209T201443Z
UID:6014-1777111200-1777114800@hof-mensch-tier.de
SUMMARY:Einzeltermin TGI
DESCRIPTION:
URL:https://hof-mensch-tier.de/event/einzeltermin-tgi-11/
END:VEVENT
BEGIN:VEVENT
DTSTART;TZID=Europe/Berlin:20260425T143000
DTEND;TZID=Europe/Berlin:20260425T160000
DTSTAMP:20260424T150519
CREATED:20260209T195919Z
LAST-MODIFIED:20260209T195919Z
UID:5958-1777127400-1777132800@hof-mensch-tier.de
SUMMARY:Pferdezeit für Anfänger\, Erwachsene
DESCRIPTION:
URL:https://hof-mensch-tier.de/event/pferdezeit-fuer-anfaenger-erwachsene/
END:VEVENT
BEGIN:VEVENT
DTSTART;TZID=Europe/Berlin:20260427T143000
DTEND;TZID=Europe/Berlin:20260427T153000
DTSTAMP:20260424T150519
CREATED:20260209T194351Z
LAST-MODIFIED:20260209T194351Z
UID:5914-1777300200-1777303800@hof-mensch-tier.de
SUMMARY:Pony-Entdecker
DESCRIPTION:
URL:https://hof-mensch-tier.de/event/pony-entdecker-4/
END:VEVENT
BEGIN:VEVENT
DTSTART;TZID=Europe/Berlin:20260427T160000
DTEND;TZID=Europe/Berlin:20260427T170000
DTSTAMP:20260424T150519
CREATED:20260209T201505Z
LAST-MODIFIED:20260209T201505Z
UID:6016-1777305600-1777309200@hof-mensch-tier.de
SUMMARY:Einzeltermin TGI
DESCRIPTION:
URL:https://hof-mensch-tier.de/event/einzeltermin-tgi-12/
END:VEVENT
BEGIN:VEVENT
DTSTART;TZID=Europe/Berlin:20260428T143000
DTEND;TZID=Europe/Berlin:20260428T153000
DTSTAMP:20260424T150519
CREATED:20260209T193101Z
LAST-MODIFIED:20260209T193101Z
UID:5876-1777386600-1777390200@hof-mensch-tier.de
SUMMARY:Lernförderung
DESCRIPTION:
URL:https://hof-mensch-tier.de/event/lernfoerderung-4/
END:VEVENT
BEGIN:VEVENT
DTSTART;TZID=Europe/Berlin:20260428T160000
DTEND;TZID=Europe/Berlin:20260428T170000
DTSTAMP:20260424T150519
CREATED:20260209T201525Z
LAST-MODIFIED:20260209T201525Z
UID:6018-1777392000-1777395600@hof-mensch-tier.de
SUMMARY:Reiten
DESCRIPTION:
URL:https://hof-mensch-tier.de/event/reiten-6/
END:VEVENT
BEGIN:VEVENT
DTSTART;TZID=Europe/Berlin:20260429T143000
DTEND;TZID=Europe/Berlin:20260429T153000
DTSTAMP:20260424T150519
CREATED:20260209T194043Z
LAST-MODIFIED:20260209T194043Z
UID:5904-1777473000-1777476600@hof-mensch-tier.de
SUMMARY:Hippolini Miniclub
DESCRIPTION:
URL:https://hof-mensch-tier.de/event/hippolini-miniclub-3/
END:VEVENT
BEGIN:VEVENT
DTSTART;TZID=Europe/Berlin:20260430T160000
DTEND;TZID=Europe/Berlin:20260430T170000
DTSTAMP:20260424T150519
CREATED:20260209T201131Z
LAST-MODIFIED:20260209T201131Z
UID:5998-1777564800-1777568400@hof-mensch-tier.de
SUMMARY:Einzeltermin TGI
DESCRIPTION:
URL:https://hof-mensch-tier.de/event/einzeltermin-tgi-8/
END:VEVENT
BEGIN:VEVENT
DTSTART;TZID=Europe/Berlin:20260502T143000
DTEND;TZID=Europe/Berlin:20260502T160000
DTSTAMP:20260424T150519
CREATED:20260209T195949Z
LAST-MODIFIED:20260209T195949Z
UID:5960-1777732200-1777737600@hof-mensch-tier.de
SUMMARY:Pferdezeit für Anfänger\, Erwachsene
DESCRIPTION:
URL:https://hof-mensch-tier.de/event/pferdezeit-fuer-anfaenger-erwachsene-2/
END:VEVENT
BEGIN:VEVENT
DTSTART;TZID=Europe/Berlin:20260504T143000
DTEND;TZID=Europe/Berlin:20260504T153000
DTSTAMP:20260424T150519
CREATED:20260209T194419Z
LAST-MODIFIED:20260209T194419Z
UID:5916-1777905000-1777908600@hof-mensch-tier.de
SUMMARY:Pony-Entdecker
DESCRIPTION:
URL:https://hof-mensch-tier.de/event/pony-entdecker-5/
END:VEVENT
BEGIN:VEVENT
DTSTART;TZID=Europe/Berlin:20260505T160000
DTEND;TZID=Europe/Berlin:20260505T170000
DTSTAMP:20260424T150519
CREATED:20260209T201552Z
LAST-MODIFIED:20260209T201552Z
UID:6020-1777996800-1778000400@hof-mensch-tier.de
SUMMARY:Reiten
DESCRIPTION:
URL:https://hof-mensch-tier.de/event/reiten-7/
END:VEVENT
BEGIN:VEVENT
DTSTART;TZID=Europe/Berlin:20260506T143000
DTEND;TZID=Europe/Berlin:20260506T153000
DTSTAMP:20260424T150519
CREATED:20260209T192146Z
LAST-MODIFIED:20260209T192146Z
UID:5852-1778077800-1778081400@hof-mensch-tier.de
SUMMARY:Tierzeit\, Pferde
DESCRIPTION:
URL:https://hof-mensch-tier.de/event/tierzeit-pferde/
END:VEVENT
BEGIN:VEVENT
DTSTART;TZID=Europe/Berlin:20260508T153000
DTEND;TZID=Europe/Berlin:20260508T163000
DTSTAMP:20260424T150519
CREATED:20260209T201617Z
LAST-MODIFIED:20260209T201617Z
UID:6022-1778254200-1778257800@hof-mensch-tier.de
SUMMARY:Pferdezeit
DESCRIPTION:
URL:https://hof-mensch-tier.de/event/pferdezeit-6/
END:VEVENT
BEGIN:VEVENT
DTSTART;TZID=Europe/Berlin:20260509T143000
DTEND;TZID=Europe/Berlin:20260509T160000
DTSTAMP:20260424T150519
CREATED:20260209T200014Z
LAST-MODIFIED:20260209T200014Z
UID:5962-1778337000-1778342400@hof-mensch-tier.de
SUMMARY:Pferdezeit für Anfänger\, Erwachsene
DESCRIPTION:
URL:https://hof-mensch-tier.de/event/pferdezeit-fuer-anfaenger-erwachsene-3/
END:VEVENT
BEGIN:VEVENT
DTSTART;TZID=Europe/Berlin:20260511T143000
DTEND;TZID=Europe/Berlin:20260511T153000
DTSTAMP:20260424T150519
CREATED:20260209T194448Z
LAST-MODIFIED:20260209T194448Z
UID:5918-1778509800-1778513400@hof-mensch-tier.de
SUMMARY:Pony-Entdecker
DESCRIPTION:
URL:https://hof-mensch-tier.de/event/pony-entdecker-6/
END:VEVENT
BEGIN:VEVENT
DTSTART;TZID=Europe/Berlin:20260511T160000
DTEND;TZID=Europe/Berlin:20260511T170000
DTSTAMP:20260424T150519
CREATED:20260209T201639Z
LAST-MODIFIED:20260209T201639Z
UID:6024-1778515200-1778518800@hof-mensch-tier.de
SUMMARY:Einzeltermin TGI
DESCRIPTION:
URL:https://hof-mensch-tier.de/event/einzeltermin-tgi-13/
END:VEVENT
BEGIN:VEVENT
DTSTART;TZID=Europe/Berlin:20260512T143000
DTEND;TZID=Europe/Berlin:20260512T153000
DTSTAMP:20260424T150519
CREATED:20260209T193136Z
LAST-MODIFIED:20260209T193136Z
UID:5878-1778596200-1778599800@hof-mensch-tier.de
SUMMARY:Lernförderung
DESCRIPTION:
URL:https://hof-mensch-tier.de/event/lernfoerderung-5/
END:VEVENT
BEGIN:VEVENT
DTSTART;TZID=Europe/Berlin:20260512T160000
DTEND;TZID=Europe/Berlin:20260512T170000
DTSTAMP:20260424T150519
CREATED:20260209T201703Z
LAST-MODIFIED:20260209T201703Z
UID:6026-1778601600-1778605200@hof-mensch-tier.de
SUMMARY:Reiten
DESCRIPTION:
URL:https://hof-mensch-tier.de/event/reiten-8/
END:VEVENT
BEGIN:VEVENT
DTSTART;TZID=Europe/Berlin:20260513T143000
DTEND;TZID=Europe/Berlin:20260513T153000
DTSTAMP:20260424T150519
CREATED:20260209T194116Z
LAST-MODIFIED:20260209T194116Z
UID:5906-1778682600-1778686200@hof-mensch-tier.de
SUMMARY:Hippolini Miniclub
DESCRIPTION:
URL:https://hof-mensch-tier.de/event/hippolini-miniclub-4/
END:VEVENT
BEGIN:VEVENT
DTSTART;TZID=Europe/Berlin:20260515T190000
DTEND;TZID=Europe/Berlin:20260515T203000
DTSTAMP:20260424T150519
CREATED:20260209T193835Z
LAST-MODIFIED:20260209T193835Z
UID:5898-1778871600-1778877000@hof-mensch-tier.de
SUMMARY:WEBINAR\, Hühner sind keine Deko
DESCRIPTION:
URL:https://hof-mensch-tier.de/event/webinar-huehner-sind-keine-deko/
END:VEVENT
BEGIN:VEVENT
DTSTART;TZID=Europe/Berlin:20260516T143000
DTEND;TZID=Europe/Berlin:20260516T160000
DTSTAMP:20260424T150519
CREATED:20260209T200043Z
LAST-MODIFIED:20260209T200043Z
UID:5964-1778941800-1778947200@hof-mensch-tier.de
SUMMARY:Pferdezeit für Anfänger\, Erwachsene
DESCRIPTION:
URL:https://hof-mensch-tier.de/event/pferdezeit-fuer-anfaenger-erwachsene-4/
END:VEVENT
BEGIN:VEVENT
DTSTART;TZID=Europe/Berlin:20260518T143000
DTEND;TZID=Europe/Berlin:20260518T153000
DTSTAMP:20260424T150519
CREATED:20260209T194518Z
LAST-MODIFIED:20260209T194518Z
UID:5920-1779114600-1779118200@hof-mensch-tier.de
SUMMARY:Pony-Entdecker
DESCRIPTION:
URL:https://hof-mensch-tier.de/event/pony-entdecker-7/
END:VEVENT
BEGIN:VEVENT
DTSTART;TZID=Europe/Berlin:20260518T160000
DTEND;TZID=Europe/Berlin:20260518T170000
DTSTAMP:20260424T150519
CREATED:20260209T201731Z
LAST-MODIFIED:20260209T201731Z
UID:6028-1779120000-1779123600@hof-mensch-tier.de
SUMMARY:Einzeltermin TGI
DESCRIPTION:
URL:https://hof-mensch-tier.de/event/einzeltermin-tgi-14/
END:VEVENT
BEGIN:VEVENT
DTSTART;TZID=Europe/Berlin:20260519T160000
DTEND;TZID=Europe/Berlin:20260519T170000
DTSTAMP:20260424T150519
CREATED:20260209T201753Z
LAST-MODIFIED:20260209T201753Z
UID:6030-1779206400-1779210000@hof-mensch-tier.de
SUMMARY:Reiten
DESCRIPTION:
URL:https://hof-mensch-tier.de/event/reiten-9/
END:VEVENT
BEGIN:VEVENT
DTSTART;TZID=Europe/Berlin:20260520T143000
DTEND;TZID=Europe/Berlin:20260520T160000
DTSTAMP:20260424T150519
CREATED:20260209T201835Z
LAST-MODIFIED:20260209T201835Z
UID:6032-1779287400-1779292800@hof-mensch-tier.de
SUMMARY:VHS Bauernhof-Minis
DESCRIPTION:
URL:https://hof-mensch-tier.de/event/vhs-bauernhof-minis/
END:VEVENT
BEGIN:VEVENT
DTSTART;TZID=Europe/Berlin:20260522T100000
DTEND;TZID=Europe/Berlin:20260522T110000
DTSTAMP:20260424T150519
CREATED:20260209T195201Z
LAST-MODIFIED:20260209T195201Z
UID:5938-1779444000-1779447600@hof-mensch-tier.de
SUMMARY:Bauernhof-Minis
DESCRIPTION:
URL:https://hof-mensch-tier.de/event/bauernhof-minis-2/
END:VEVENT
BEGIN:VEVENT
DTSTART;TZID=Europe/Berlin:20260522T153000
DTEND;TZID=Europe/Berlin:20260522T163000
DTSTAMP:20260424T150519
CREATED:20260209T201908Z
LAST-MODIFIED:20260209T201908Z
UID:6034-1779463800-1779467400@hof-mensch-tier.de
SUMMARY:Pferdezeit
DESCRIPTION:
URL:https://hof-mensch-tier.de/event/pferdezeit-7/
END:VEVENT
BEGIN:VEVENT
DTSTART;TZID=Europe/Berlin:20260522T170000
DTEND;TZID=Europe/Berlin:20260522T183000
DTSTAMP:20260424T150519
CREATED:20260209T192712Z
LAST-MODIFIED:20260209T192712Z
UID:5864-1779469200-1779474600@hof-mensch-tier.de
SUMMARY:Jahreskurs\, Pferde
DESCRIPTION:
URL:https://hof-mensch-tier.de/event/jahreskurs-pferde/
END:VEVENT
BEGIN:VEVENT
DTSTART;TZID=Europe/Berlin:20260523T100000
DTEND;TZID=Europe/Berlin:20260523T110000
DTSTAMP:20260424T150519
CREATED:20260209T201930Z
LAST-MODIFIED:20260209T201930Z
UID:6036-1779530400-1779534000@hof-mensch-tier.de
SUMMARY:Einzeltermin TGI
DESCRIPTION:
URL:https://hof-mensch-tier.de/event/einzeltermin-tgi-15/
END:VEVENT
END:VCALENDAR